BEGIN:VCALENDAR
VERSION:2.0
PRODID:-//Age Friendly North Jersey - ECPv6.15.15//NONSGML v1.0//EN
CALSCALE:GREGORIAN
METHOD:PUBLISH
X-ORIGINAL-URL:https://agefriendlynj.org
X-WR-CALDESC:Events for Age Friendly North Jersey
REFRESH-INTERVAL;VALUE=DURATION:PT1H
X-Robots-Tag:noindex
X-PUBLISHED-TTL:PT1H
BEGIN:VTIMEZONE
TZID:America/New_York
BEGIN:DAYLIGHT
TZOFFSETFROM:-0500
TZOFFSETTO:-0400
TZNAME:EDT
DTSTART:20240310T070000
END:DAYLIGHT
BEGIN:STANDARD
TZOFFSETFROM:-0400
TZOFFSETTO:-0500
TZNAME:EST
DTSTART:20241103T060000
END:STANDARD
BEGIN:DAYLIGHT
TZOFFSETFROM:-0500
TZOFFSETTO:-0400
TZNAME:EDT
DTSTART:20250309T070000
END:DAYLIGHT
BEGIN:STANDARD
TZOFFSETFROM:-0400
TZOFFSETTO:-0500
TZNAME:EST
DTSTART:20251102T060000
END:STANDARD
BEGIN:DAYLIGHT
TZOFFSETFROM:-0500
TZOFFSETTO:-0400
TZNAME:EDT
DTSTART:20260308T070000
END:DAYLIGHT
BEGIN:STANDARD
TZOFFSETFROM:-0400
TZOFFSETTO:-0500
TZNAME:EST
DTSTART:20261101T060000
END:STANDARD
END:VTIMEZONE
BEGIN:VEVENT
DTSTART;TZID=America/New_York:20250910T103000
DTEND;TZID=America/New_York:20250910T120000
DTSTAMP:20260425T101458
CREATED:20250715T144707Z
LAST-MODIFIED:20250831T183146Z
UID:7193-1757500200-1757505600@agefriendlynj.org
SUMMARY:Libraries as an Invaluable Resource for Older Adults
DESCRIPTION:Libraries are trusted\, familiar spaces that offer invaluable resources—serving as gateways to lifelong learning\, civic engagement\, and social connection. The 2024 NJAAW Survey of Older Adults reinforced this\, finding that older adults are more likely to visit\, trust\, and engage with their local library than with senior centers or other organizations. Leonia Public Library\, under the leadership of Director Michelle Malone\, already exemplifies this through robust programs for older adults\, and we are thrilled they will be hosting the September meeting.   \nJoin us to learn how we can expand partnerships and collaborations with public libraries across New Jersey to amplify their role in the age-friendly movement. \nPlease register here: \n https://lp.constantcontactpages.com/ev/reg/b03174ca-ab50-4e27-9401-f91183c305b4 \n 
URL:https://agefriendlynj.org/event/libraries-as-an-invaluable-resource-for-older-adults/
LOCATION:Leonia Library
ATTACH;FMTTYPE=image/jpeg:https://agefriendlynj.org/wp-content/uploads/2025/07/istockphoto-1460009941-612x612-1.jpg
END:VEVENT
END:VCALENDAR