BEGIN:VCALENDAR
VERSION:2.0
PRODID:-//Age Friendly North Jersey - ECPv6.15.15//NONSGML v1.0//EN
CALSCALE:GREGORIAN
METHOD:PUBLISH
X-ORIGINAL-URL:https://agefriendlynj.org
X-WR-CALDESC:Events for Age Friendly North Jersey
REFRESH-INTERVAL;VALUE=DURATION:PT1H
X-Robots-Tag:noindex
X-PUBLISHED-TTL:PT1H
BEGIN:VTIMEZONE
TZID:America/New_York
BEGIN:DAYLIGHT
TZOFFSETFROM:-0500
TZOFFSETTO:-0400
TZNAME:EDT
DTSTART:20250309T070000
END:DAYLIGHT
BEGIN:STANDARD
TZOFFSETFROM:-0400
TZOFFSETTO:-0500
TZNAME:EST
DTSTART:20251102T060000
END:STANDARD
BEGIN:DAYLIGHT
TZOFFSETFROM:-0500
TZOFFSETTO:-0400
TZNAME:EDT
DTSTART:20260308T070000
END:DAYLIGHT
BEGIN:STANDARD
TZOFFSETFROM:-0400
TZOFFSETTO:-0500
TZNAME:EST
DTSTART:20261101T060000
END:STANDARD
BEGIN:DAYLIGHT
TZOFFSETFROM:-0500
TZOFFSETTO:-0400
TZNAME:EDT
DTSTART:20270314T070000
END:DAYLIGHT
BEGIN:STANDARD
TZOFFSETFROM:-0400
TZOFFSETTO:-0500
TZNAME:EST
DTSTART:20271107T060000
END:STANDARD
END:VTIMEZONE
BEGIN:VEVENT
DTSTART;TZID=America/New_York:20260218T140000
DTEND;TZID=America/New_York:20260218T150000
DTSTAMP:20260424T184828
CREATED:20260202T015740Z
LAST-MODIFIED:20260223T184503Z
UID:10154-1771423200-1771426800@agefriendlynj.org
SUMMARY:Meet the Great Homes and Neighborhoods for All (GHNA) Initiative
DESCRIPTION:What makes a community friendly for older New Jerseyans is what makes a community friendly for everyone! Great Homes and Neighborhoods for All (GHNA) is a statewide\, pro-housing initiative tackling New Jersey’s housing and neighborhood challenges by examining the zoning and land use barriers standing in the way of progress. Organized around the concept that everyone in New Jersey deserves an affordable place to live – in a safe\, vibrant community\, GHNA includes advocates for smart growth and housing justice\, for-profit and nonprofit developers\, community development leaders\, academics\, local pro-housing campaign representatives\, and land use planners. Join to learn more about the priorities of GHNA and how you can get involved! \nSee the recording here: https://youtu.be/yjMEURN-vOE \n 
URL:https://agefriendlynj.org/event/meet-the-great-homes-and-neighborhoods-for-all-ghna-initiative/
LOCATION:Zoom
ATTACH;FMTTYPE=image/png:https://agefriendlynj.org/wp-content/uploads/2026/02/great-neighborhoods.png
END:VEVENT
END:VCALENDAR