BEGIN:VCALENDAR
VERSION:2.0
PRODID:-//Age Friendly North Jersey - ECPv6.15.15//NONSGML v1.0//EN
CALSCALE:GREGORIAN
METHOD:PUBLISH
X-WR-CALNAME:Age Friendly North Jersey
X-ORIGINAL-URL:https://agefriendlynj.org
X-WR-CALDESC:Events for Age Friendly North Jersey
REFRESH-INTERVAL;VALUE=DURATION:PT1H
X-Robots-Tag:noindex
X-PUBLISHED-TTL:PT1H
BEGIN:VTIMEZONE
TZID:America/New_York
BEGIN:DAYLIGHT
TZOFFSETFROM:-0500
TZOFFSETTO:-0400
TZNAME:EDT
DTSTART:20200308T070000
END:DAYLIGHT
BEGIN:STANDARD
TZOFFSETFROM:-0400
TZOFFSETTO:-0500
TZNAME:EST
DTSTART:20201101T060000
END:STANDARD
BEGIN:DAYLIGHT
TZOFFSETFROM:-0500
TZOFFSETTO:-0400
TZNAME:EDT
DTSTART:20210314T070000
END:DAYLIGHT
BEGIN:STANDARD
TZOFFSETFROM:-0400
TZOFFSETTO:-0500
TZNAME:EST
DTSTART:20211107T060000
END:STANDARD
BEGIN:DAYLIGHT
TZOFFSETFROM:-0500
TZOFFSETTO:-0400
TZNAME:EDT
DTSTART:20220313T070000
END:DAYLIGHT
BEGIN:STANDARD
TZOFFSETFROM:-0400
TZOFFSETTO:-0500
TZNAME:EST
DTSTART:20221106T060000
END:STANDARD
BEGIN:DAYLIGHT
TZOFFSETFROM:-0500
TZOFFSETTO:-0400
TZNAME:EDT
DTSTART:20230312T070000
END:DAYLIGHT
BEGIN:STANDARD
TZOFFSETFROM:-0400
TZOFFSETTO:-0500
TZNAME:EST
DTSTART:20231105T060000
END:STANDARD
BEGIN:DAYLIGHT
TZOFFSETFROM:-0500
TZOFFSETTO:-0400
TZNAME:EDT
DTSTART:20240310T070000
END:DAYLIGHT
BEGIN:STANDARD
TZOFFSETFROM:-0400
TZOFFSETTO:-0500
TZNAME:EST
DTSTART:20241103T060000
END:STANDARD
BEGIN:DAYLIGHT
TZOFFSETFROM:-0500
TZOFFSETTO:-0400
TZNAME:EDT
DTSTART:20250309T070000
END:DAYLIGHT
BEGIN:STANDARD
TZOFFSETFROM:-0400
TZOFFSETTO:-0500
TZNAME:EST
DTSTART:20251102T060000
END:STANDARD
END:VTIMEZONE
BEGIN:VEVENT
DTSTART;TZID=America/New_York:20241206T100000
DTEND;TZID=America/New_York:20241206T233000
DTSTAMP:20260425T082535
CREATED:20241105T145855Z
LAST-MODIFIED:20241105T150006Z
UID:1237-1733479200-1733527800@agefriendlynj.org
SUMMARY:Bergen Roundtable
DESCRIPTION:Learn the details and implementation timeline for the new Affordable Housing Calculations and important information about Fair Housing & Housing Discrimination \nBreakfast available at 9:45 AM\, Networking until Noon \nCome and learn from experts about how current considerations in housing are impacting older adults. The N.J. Dept. of Community Affairs recently released Affordable Housing Calculations recommended for nearly every municipality in the state. These calculations will guide development for years to come and may significantly impact affordable senior housing. Regulations regarding Fair Housing and Housing Discrimination are already in place but not always adhered to. \nThese topics are of critical concern to every municipality in New Jersey and\, of course\, to providers of services to older adults. Find out what they mean and how they impact you and those you serve. \nPlease consider passing this information along to — and/or bringing with you — municipal officials who will benefit from this information.
URL:https://agefriendlynj.org/event/bergen-roundtable-2/
LOCATION:Hackensack Meridian Fitness & Wellness\, 87 Routh 17 North\, Maywood
ATTACH;FMTTYPE=image/png:https://agefriendlynj.org/wp-content/uploads/2024/09/Screenshot-2024-09-17-101346.png
END:VEVENT
BEGIN:VEVENT
DTSTART;TZID=America/New_York:20240925T093000
DTEND;TZID=America/New_York:20240925T110000
DTSTAMP:20260425T082535
CREATED:20240917T141502Z
LAST-MODIFIED:20240917T141502Z
UID:686-1727256600-1727262000@agefriendlynj.org
SUMMARY:Bergen Roundtable
DESCRIPTION:Advocating for Equity: Expanding Access to Medicaid for Older Adults and People with Disabilities\nJoin us for an interactive conversation about a new coalition of aging and disability advocates working to reform inequitable Medicaid eligibility standards. These standards unfairly subject older adults and people with disabilities to stricter criteria\, limiting their access to critical services that support aging in home and community-based settings. \nPromising policy and legislative changes could be on the horizon! Your input and participation in this growing campaign are needed! \nHannah Diamond\, Policy Advocate at Justice in Aging\, will discuss current inequities in Medicaid pathways impacting older adults and people with disabilities\, outline proposed legislative and policy fixes\, and suggest ways Bergen County’s provider community and age-friendly advocates can support this effort. \nQ&A\, discussion and networking to follow
URL:https://agefriendlynj.org/event/bergen-roundtable/
LOCATION:Hackensack Meridian Fitness & Wellness\, 87 Routh 17 North\, Maywood
END:VEVENT
BEGIN:VEVENT
DTSTART;TZID=America/New_York:20240919T140000
DTEND;TZID=America/New_York:20240919T150000
DTSTAMP:20260425T082535
CREATED:20240913T131501Z
LAST-MODIFIED:20240927T175858Z
UID:541-1726754400-1726758000@agefriendlynj.org
SUMMARY:AFNJ Police Partnerships
DESCRIPTION:Many towns are expanding their community police efforts\, and implementing or working with age-friendly initiatives is a perfect fit! Police partnerships can be part of broader efforts to create age-friendly communities\, ensuring that older residents can live independently and safely. Join us to hear how Generations for Garfield has built a successful partnership between residents\, the Garfield Police Dept. and the community. Also hear from West Orange about their outreach and efforts with older residents.\n\nSee recording here: https://youtu.be/re18vu3L6JI
URL:https://agefriendlynj.org/event/afnj-police-partnerships/
LOCATION:Zoom
ATTACH;FMTTYPE=image/png:https://agefriendlynj.org/wp-content/uploads/2024/09/Copy-of-Aging-Insights-135.png
END:VEVENT
BEGIN:VEVENT
DTSTART;TZID=America/New_York:20231121T080000
DTEND;TZID=America/New_York:20231121T170000
DTSTAMP:20260425T082535
CREATED:20241125T161410Z
LAST-MODIFIED:20241125T161418Z
UID:1565-1700553600-1700586000@agefriendlynj.org
SUMMARY:AFNJ  Meeting on Age-Friendly Intergenerational Programming
DESCRIPTION:Speakers from Age-Friendly North Jersey and Generations United share their experience with intergenerational programming. \n\nFrom Aging Well West Orange: Laura Van Dyke\, Senior Services Coordinator for the Township of West Orange\, and Dorothy Sanders\, Local Health Outreach Coordinator\, Department of Health\, Township of West Orange\nFrom Fair Lawn for All Ages: Lisa MacClements\, Age-Friendly Coordinator\nFrom Generations United: Donna Butts\, Executive Director\, Danica Derriennic\, Special Projects Coordinator\, Generations United
URL:https://agefriendlynj.org/event/afnj-meeting-on-age-friendly-intergenerational-programming/
LOCATION:Zoom
ATTACH;FMTTYPE=image/png:https://agefriendlynj.org/wp-content/uploads/2024/11/Screenshot-2024-11-25-111340.png
END:VEVENT
BEGIN:VEVENT
DTSTART;TZID=America/New_York:20230511T080000
DTEND;TZID=America/New_York:20230511T170000
DTSTAMP:20260425T082535
CREATED:20241125T161632Z
LAST-MODIFIED:20241125T161916Z
UID:1568-1683792000-1683824400@agefriendlynj.org
SUMMARY:Municipal Communities on Aging
DESCRIPTION:Speakers: \n\nMayor Jaclyn Veasy\, Evesham Township Senior Citizen Advisory Committee\nLaura Van Dyke\, Township of West Orange Older Adult Advisory Board\nProfessor Emily Greenfield\, Annabess Ehrhardt\, Dr. Althea Pestine-Stevens\, Hub for Aging Collaboration at Rutgers School of Social Work
URL:https://agefriendlynj.org/event/municipal-communities-on-aging-may-11-2023/
LOCATION:Zoom
ATTACH;FMTTYPE=image/png:https://agefriendlynj.org/wp-content/uploads/2024/11/Screenshot-2024-11-25-111805.png
END:VEVENT
BEGIN:VEVENT
DTSTART;TZID=America/New_York:20221231T080000
DTEND;TZID=America/New_York:20221231T170000
DTSTAMP:20260425T082535
CREATED:20241125T162738Z
LAST-MODIFIED:20241125T162738Z
UID:1578-1672473600-1672506000@agefriendlynj.org
SUMMARY:Age-Friendly North Jersey 2022 Review
DESCRIPTION:Enjoy this year-end review highlighting the work and activities of AFNJ members
URL:https://agefriendlynj.org/event/age-friendly-north-jersey-2022-review/
LOCATION:Zoom
ATTACH;FMTTYPE=image/png:https://agefriendlynj.org/wp-content/uploads/2024/11/Screenshot-2024-11-25-112639.png
END:VEVENT
BEGIN:VEVENT
DTSTART;TZID=America/New_York:20221130T080000
DTEND;TZID=America/New_York:20221130T170000
DTSTAMP:20260425T082535
CREATED:20241122T183156Z
LAST-MODIFIED:20241125T160835Z
UID:1494-1669795200-1669827600@agefriendlynj.org
SUMMARY:Age-Friendly North Jersey Meeting on Age-Friendly Advocacy in Local Government
DESCRIPTION:Panel conversation with peer leaders in municipal age-friendly advocacy: \n\nCristina Cutrone\, Deputy Mayor\, Borough of Fair Lawn\nKaren Hartshorn Hilton\, Trustee\, Village of South Orange\nBarry Lewis\, Township Manager\, Township of Livingston\nModerated by Althea Pestine-Stevens\, Rutgers University School of Social Work
URL:https://agefriendlynj.org/event/1-age-friendly-north-jersey-meeting-on-age-friendly-advocacy-in-local-government/
LOCATION:Zoom
ATTACH;FMTTYPE=image/png:https://agefriendlynj.org/wp-content/uploads/2024/11/Screenshot-2024-11-25-110731.png
END:VEVENT
BEGIN:VEVENT
DTSTART;TZID=America/New_York:20220608T080000
DTEND;TZID=America/New_York:20220608T170000
DTSTAMP:20260425T082535
CREATED:20241122T185546Z
LAST-MODIFIED:20241122T185546Z
UID:1496-1654675200-1654707600@agefriendlynj.org
SUMMARY:Engaging Historically Marginalized Older Adults in Age-Friendly Communities: AFNJ June 2022 Meeting
DESCRIPTION:Our June 8\, 2022 alliance meeting on “Engaging Historically Marginalized Older Adults in Age-Friendly Communities” had two enlightening presentations by Drs. Laurent Reyes and Melanie Plasencia\, followed by a lively Q & A session. Some key takeaways included:\n• The importance of recruiting people with historically marginalized identities as leaders;\n• Designing events that include elements of cultural importance; and\n• Recognizing the leadership already occurring in communities.
URL:https://agefriendlynj.org/event/engaging-historically-marginalized-older-adults-in-age-friendly-communities-afnj-june-2022-meeting/
LOCATION:Zoom
ATTACH;FMTTYPE=image/png:https://agefriendlynj.org/wp-content/uploads/2024/07/cropped-AgeFriendlyNorthJersey_Logo_Vertical.png
END:VEVENT
BEGIN:VEVENT
DTSTART;TZID=America/New_York:20211208T080000
DTEND;TZID=America/New_York:20211208T170000
DTSTAMP:20260425T082535
CREATED:20241125T162222Z
LAST-MODIFIED:20241125T162222Z
UID:1573-1638950400-1638982800@agefriendlynj.org
SUMMARY:Developing Communications Strategies: AFNJ New Leaders Meeting
DESCRIPTION:Featuring RoseAnn Ciarlante from Westwood; Carmen Morale\, Tracy Carroll\, and Cathy Rowe from South Orange and Maplewood\, and Darleen Reveille from Garfield. Panelists from three communities who have been doing age-friendly work for at least 5 years share the diverse and widespread ways in which they connect\, share information\, and spread awareness with community members\, organizational partners\, elected officials\, and more. Speakers provide tips for new leaders starting their age-friendly community work and lessons that they learned along the way.
URL:https://agefriendlynj.org/event/developing-communications-strategies-afnj-new-leaders-meeting/
LOCATION:Zoom
ATTACH;FMTTYPE=image/png:https://agefriendlynj.org/wp-content/uploads/2024/11/Screenshot-2024-11-25-112143.png
END:VEVENT
BEGIN:VEVENT
DTSTART;TZID=America/New_York:20211117T080000
DTEND;TZID=America/New_York:20211118T170000
DTSTAMP:20260425T082535
CREATED:20241125T162410Z
LAST-MODIFIED:20241125T163015Z
UID:1576-1637136000-1637254800@agefriendlynj.org
SUMMARY:AFNJ Meeting on Communications for Sustainability\, November 17\, 2021
DESCRIPTION:Our Alliance has some new ways to share information and connect with each other! Drs. Emily Greenfield and Althea Pestine-Stevens from Rutgers School of Social Work present new communications platforms intended to help us stay more connected and informed as local initiatives continue to evolve. Included in this discussion are an eNewsletter\, Padlet bulletin board\, Listserv\, and Website/blog. Use this link to access the activity worksheets: https://docs.google.com/presentation/….
URL:https://agefriendlynj.org/event/afnj-meeting-on-communications-for-sustainability-november-17-2021/
LOCATION:Zoom
ATTACH;FMTTYPE=image/png:https://agefriendlynj.org/wp-content/uploads/2024/11/Screenshot-2024-11-25-112845.png
END:VEVENT
END:VCALENDAR