BEGIN:VCALENDAR
VERSION:2.0
PRODID:-//Age Friendly North Jersey - ECPv6.15.15//NONSGML v1.0//EN
CALSCALE:GREGORIAN
METHOD:PUBLISH
X-WR-CALNAME:Age Friendly North Jersey
X-ORIGINAL-URL:https://agefriendlynj.org
X-WR-CALDESC:Events for Age Friendly North Jersey
REFRESH-INTERVAL;VALUE=DURATION:PT1H
X-Robots-Tag:noindex
X-PUBLISHED-TTL:PT1H
BEGIN:VTIMEZONE
TZID:America/New_York
BEGIN:DAYLIGHT
TZOFFSETFROM:-0500
TZOFFSETTO:-0400
TZNAME:EDT
DTSTART:20240310T070000
END:DAYLIGHT
BEGIN:STANDARD
TZOFFSETFROM:-0400
TZOFFSETTO:-0500
TZNAME:EST
DTSTART:20241103T060000
END:STANDARD
BEGIN:DAYLIGHT
TZOFFSETFROM:-0500
TZOFFSETTO:-0400
TZNAME:EDT
DTSTART:20250309T070000
END:DAYLIGHT
BEGIN:STANDARD
TZOFFSETFROM:-0400
TZOFFSETTO:-0500
TZNAME:EST
DTSTART:20251102T060000
END:STANDARD
BEGIN:DAYLIGHT
TZOFFSETFROM:-0500
TZOFFSETTO:-0400
TZNAME:EDT
DTSTART:20260308T070000
END:DAYLIGHT
BEGIN:STANDARD
TZOFFSETFROM:-0400
TZOFFSETTO:-0500
TZNAME:EST
DTSTART:20261101T060000
END:STANDARD
END:VTIMEZONE
BEGIN:VEVENT
DTSTART;TZID=America/New_York:20251023T100000
DTEND;TZID=America/New_York:20251023T113000
DTSTAMP:20260425T071015
CREATED:20250831T183907Z
LAST-MODIFIED:20250915T210932Z
UID:8858-1761213600-1761219000@agefriendlynj.org
SUMMARY:AFNJ Virtual Meeting - Dementia and Age-Friendly
DESCRIPTION:Sara Gorman\, PhD\, MPH\, Program Director at the Alzheimer’s Association Greater New Jersey Chapter\, will discuss some of the programs and resources the chapter has to offer\, including  the Association’s wide range of educational programs for the general public on the signs of Alzheimer’s and the nature of the disease\, caregiver training\, including how to respond to and manage dementia-related behaviors\, how to communicate effectively\, how to support independence for those who struggle with activities of daily living\, how to plan for the future (financially and otherwise)\, and other related topics. Learn about the ways the Association can support you and your work to ensure better aging across the state. \nWe will also hear about Bergen County’s dementia-friendly work and how it fits into their larger age-friendly efforts. \nRegister here: https://us02web.zoom.us/meeting/register/Xgcx6gpeR9uOGHIeBlScDA
URL:https://agefriendlynj.org/event/afnj-virtual-meeting-dementia-and-age-friendly/
LOCATION:Zoom
ATTACH;FMTTYPE=image/jpeg:https://agefriendlynj.org/wp-content/uploads/2025/08/Alz-ribbon.jpg
END:VEVENT
END:VCALENDAR